BEGIN:VCALENDAR
PRODID:-//AT Content Types//AT Event//EN
VERSION:1.0
BEGIN:VEVENT
DTSTART:20120326T083000Z
DTEND:20120326T140000Z
DCREATED:20120312T070550Z
UID:ATEvent-a62f916069b18e26f5d9dc7a85ecb04f
SEQUENCE:0
LAST-MODIFIED:20120312T071458Z
SUMMARY:Technical Meeting March 2012
LOCATION:ENSSAT Lannion
PRIORITY:3
TRANSP:0
END:VEVENT
END:VCALENDAR
