BEGIN:VCALENDAR
PRODID:-//AT Content Types//AT Event//EN
VERSION:2.0
METHOD:PUBLISH
BEGIN:VEVENT
DTSTAMP:20260423T080755Z
CREATED:20140316T152515Z
UID:ATEvent-091b07013930139a594b7a8bd6cb98d4
LAST-MODIFIED:20140316T152609Z
SUMMARY:10th International Symposium on Applied Reconfigurable Computing
DTSTART:20140414T060000Z
DTEND:20140416T160000Z
LOCATION:Vilamoura\, Algarve\, Portugal
CATEGORIES:Convention
URL:http://paginas.fe.up.pt/~specs/events/arc2014/
CLASS:PUBLIC
END:VEVENT
END:VCALENDAR
