BEGIN:VCALENDAR
PRODID:-//AT Content Types//AT Event//EN
VERSION:1.0
BEGIN:VEVENT
DTSTART:20131015T090000Z
DTEND:20131015T103000Z
DCREATED:20130323T100551Z
UID:ATEvent-889118a277be4337be8b4c2c1885fe57
SEQUENCE:0
LAST-MODIFIED:20130925T052030Z
SUMMARY:Mid-Term Evaluation by ANR
LOCATION:Paris
PRIORITY:3
TRANSP:0
END:VEVENT
END:VCALENDAR
